BEGIN:VCALENDAR
PRODID:NingEventWidget-v1
VERSION:2.0
METHOD:PUBLISH
BEGIN:VEVENT
UID:5167423:Event:314904
DTSTAMP:20260422T021526Z
SUMMARY:Polish Mountain Hillclimb
DESCRIPTION:Please join us for the Polish Mountain Hillclimb, which wi
 ll be held August 5-6, 2023 in Flintstone, MD (a few miles east of Cum
 berland, MD). This is the fifth event in the Pennsylvania Hillclimb As
 sociation (PHA) Champion Series. It is an SCCA sanctioned event and is
  hosted by the Western Maryland Chapter of DC Region SCCA.  Registrati
 on for this event will open in late June, early July.  Online registr
 ation will be on motorsportreg.com -- search for Polish Mountain Hillc
 limb.  Camping is allowed at this event, and the local fire department
  has a great stand for breakfast and lunch.  Spectator areas are avai
 lable along the course.  Please see the PHA Website for more informati
 on. See the Rules Menu for car classes and preparation rules, and the 
 Current Schedule/Results Menu for registration links and the full seri
 es schedule. Or look under the About PHA menu for contacts if you have
  questions.\n\nFor more information visit https://northeastwheelsevent
 s.com/events/polish-mountain-hillclimb-1
DTSTART:20230805T120000Z
DTEND:20230806T220000Z
CATEGORIES:"scca hillclimb", racing
LOCATION:Flintstone, MD
WEBSITE:https://pahillclimb.org/
URL:https://pahillclimb.org/
CONTACT:
ORGANIZER:PA Hillclimb Association, Western MD Chapter DC Region SCCA
ATTACH;FMTTYPE="image/jpeg":https://storage.ning.com/topology/rest/1.0
 /file/get/11128564659?profile=original
ATTENDEE;ROLE=REQ-PARTICIPANT;PARTSTAT=ACCEPTED;RSVP=TRUE;CN="PA Hillc
 limb Association":https://northeastwheelsevents.com/profile/PAHillclim
 bAssociation
END:VEVENT
END:VCALENDAR
