BEGIN:VCALENDAR
PRODID:NingEventWidget-v1
VERSION:2.0
METHOD:PUBLISH
BEGIN:VEVENT
UID:5167423:Event:182772
DTSTAMP:20260424T232745Z
SUMMARY:Pontiac-Oakland-GMC Fall Meet
DESCRIPTION:Sunday, September 23, 2018 9-3, judged show at Ebersole Bu
 ick-GMC, Lebanon, PA.  2017 had over 60 cars.  Presented by Keystone
  State Chapter of POCI.  For pre-registration go to www.kscpoci.org, 
 select CURRENT EVENTS then scroll down and select the event or contact
  Sandy Kemp 610-367-6664.\n\nFor more information visit https://north
 eastwheelsevents.com/events/pontiac-oakland-gmc-fall-meet
DTSTART:20180923T130000Z
DTEND:20180923T190000Z
CATEGORIES:car, show
LOCATION:1900 Cumberland St, Lebanon, PA 17042
WEBSITE:http://www.kscpoci.org
URL:http://www.kscpoci.org
CONTACT:Sandy Kemp 610-367-6664
ORGANIZER;CN="Richard Stover":https://northeastwheelsevents.com/profil
 e/RichardStover
ATTACH;FMTTYPE="image/jpeg":http://storage.ning.com/topology/rest/1.0/
 file/get/2284113403?profile=original
ATTENDEE;ROLE=REQ-PARTICIPANT;PARTSTAT=ACCEPTED;RSVP=TRUE;CN="Richard 
 Stover":https://northeastwheelsevents.com/profile/RichardStover
END:VEVENT
END:VCALENDAR
