BEGIN:VCALENDAR
PRODID:NingEventWidget-v1
VERSION:2.0
METHOD:PUBLISH
BEGIN:VEVENT
UID:5167423:Event:60173
DTSTAMP:20260422T013848Z
SUMMARY:Pontiac Summer Roundup
DESCRIPTION:First annual Pontiac Summer Roundup. Held at Baker's of Mi
 lford in Milford, MI. Our first show drew 130 beautiful Pontiac, GMC a
 nd Oakland vehicles.  Family oriented event, fun for all. Vendor Area
  and Swap Meet day of the show. Stay an extra day and Sunday attend th
 e Largest Cruise In, in America. For the Pontiac faithful this is a mu
 st attend event! Contact john Berzsenyi for more show info or go to w
 ww.motorcitypoci.com and find the registration form and photos from l
 ast years show.\n\nFor more information visit https://northeastwheelse
 vents.com/events/pontiac-summer-roundup
DTSTART:20150718T120000Z
DTEND:20150718T183000Z
CATEGORIES:car, show
LOCATION:Baker's of Milford
WEBSITE:http://www.motorcitypoci.com
URL:http://www.motorcitypoci.com
CONTACT:248-467-9476
ORGANIZER;CN="John Berzsenyi":https://northeastwheelsevents.com/profil
 e/JohnBerzsenyi
ATTACH;FMTTYPE="image/jpeg":
ATTENDEE;ROLE=REQ-PARTICIPANT;PARTSTAT=ACCEPTED;RSVP=TRUE;CN="John Ber
 zsenyi":https://northeastwheelsevents.com/profile/JohnBerzsenyi
END:VEVENT
END:VCALENDAR
