BEGIN:VCALENDAR
PRODID:NingEventWidget-v1
VERSION:2.0
METHOD:PUBLISH
BEGIN:VEVENT
UID:5167423:Event:100269
DTSTAMP:20260425T203859Z
SUMMARY:Porsche Club Snowflake Rally 60th
DESCRIPTION:This is a fun day out for anyone. All clubs are welcomed a
 nd individuals with any vehicles. Snowflake is celebrating 60 years of
  rally fun from Metro NY Porsche Club. Their will be trophies at finis
 h for both Expert and Touring classes. We will end at Southampton Publ
 ik House for food, refreshments,fellowship and awards. Start at Hauppa
 uge Palace Diner register 9am, first car\noff at 10am. Fee:PCA member 
 DOE $50. other clubs $60.\n\nFor more information visit https://northe
 astwheelsevents.com/events/porsche-club-snowflake-rally-60th
DTSTART:20160131T140000Z
DTEND:20160131T200000Z
CATEGORIES:rally
LOCATION:Hauppauge Palace Diner
WEBSITE:
URL:
CONTACT:6315130089
ORGANIZER:Richie Mooers
ATTACH;FMTTYPE="image/jpeg":http://storage.ning.com/topology/rest/1.0/
 file/get/2284077492?profile=original
ATTENDEE;ROLE=REQ-PARTICIPANT;PARTSTAT=ACCEPTED;RSVP=TRUE;CN="ginger S
 agau":https://northeastwheelsevents.com/profile/gingerSagau
END:VEVENT
END:VCALENDAR
