BEGIN:VCALENDAR
PRODID:NingEventWidget-v1
VERSION:2.0
METHOD:PUBLISH
BEGIN:VEVENT
UID:5167423:Event:334689
DTSTAMP:20260422T194120Z
SUMMARY:Porsche Macan 4 Electric Launch Event
DESCRIPTION:Our team invites you to an exclusive preview of the all-ne
 w Macan Electric. Be among the first to experience the next generation
  of Porsche innovation and performance. Join us for an exciting evenin
 g filled with the latest electric vehicle technology, refreshments, an
 d an opportunity to meet our expert team. We look forward to sharing t
 his remarkable vehicle with you and showcasing its groundbreaking feat
 ures. \r\n\r\n\r\n\r\nPorsche Macan 4 Electric Launch Event\r\n\r\n\r
 \n\r\n\r\n\r\n\r\n\r\n\r\n\r\n\r\nMacan Electric Preview at \r\nPorsc
 he Nashua.\r\n\r\n\r\n\r\n\r\n\r\n\r\n\r\n\r\n\r\n\r\n\r\n\r\nDate: Oc
 tober 16, 2024 \r\nTime: 6:00 pm- 9:00 pm \r\nLocation: Porsche Nash
 ua \r\nAttire: Cocktail attire \r\n\r\n \r\nKey facts.\r\n\r\nDate:
  October 16, 2024 \r\nTime: 6:00 pm- 9:00 pm \r\nLocation: Porsche N
 ashua \r\nAttire: Cocktail attire \r\n\r\n \r\nWhat to expect.\r\n\
 r\n\r\nReveal of all new Electric Macan with entertainment \r\nChance
  to preview the Electric Macan \r\nEnjoy a selection of snacks and re
 freshments while you mingle with fellow Porsche enthusiasts\r\n\r\n\r\
 nWe look forward to seeing you there. RSVP at website. \r\n\r\n\r\n\r
 \n\r\n\n\nFor more information visit https://northeastwheelsevents.com
 /events/porsche-macan-4-electric-launch-event
DTSTART:20241016T220000Z
DTEND:20241017T010000Z
CATEGORIES:carshow
LOCATION:Porsche Nashua.
WEBSITE:https://www.porschenashua.com/porsche-macan-4-electric-launch-
 event-porsche-nashua.htm#
URL:https://www.porschenashua.com/porsche-macan-4-electric-launch-even
 t-porsche-nashua.htm#
CONTACT:866-727-4097
ORGANIZER:Porsche Nashua
ATTACH;FMTTYPE="image/jpeg":https://storage.ning.com/topology/rest/1.0
 /file/get/12998309888?profile=original
ATTENDEE;ROLE=REQ-PARTICIPANT;PARTSTAT=ACCEPTED;RSVP=TRUE;CN="William 
 Bruce":https://northeastwheelsevents.com/profile/WilliamBruce
END:VEVENT
END:VCALENDAR
