BEGIN:VCALENDAR
PRODID:NingEventWidget-v1
VERSION:2.0
METHOD:PUBLISH
BEGIN:VEVENT
UID:5167423:Event:117113
DTSTAMP:20260425T140548Z
SUMMARY:Pottstown Cars & Coffee
DESCRIPTION:Come Join us Saturday, June 11th at our Pottstown Cars and
  Coffee event.  Stop by anytime from 8am to Noon.These events have be
 come great places / times for car enthusiasts to get together and meet
 , and eat, and have some coffee and shoot the breeze, with NO expectat
 ions of JUDGING, or TROPHIES. JUST CAR PEOPLE getting together with ot
 her CAR PEOPLE. Car enthusiasts of all kinds are welcome. It does not 
 matter what you drive, if it’s a LAMBORGHINI..., or a GEO METRO, if 
 it has 500 hp, or 80 hp, if it was made in THIS Country, or came from 
 Over Seas. This is about the passion for cars, and the want to HANG an
 d MEET others with the same passion.\n\nFor more information visit htt
 ps://northeastwheelsevents.com/events/pottstown-cars-coffee-14
DTSTART:20160611T120000Z
DTEND:20160611T160000Z
CATEGORIES:cruise-in
LOCATION:Stowe Crossing Shopping Center
WEBSITE:https://www.facebook.com/groups/Pottstowncarsandcoffee/?ref=bo
 okmarks&qsefr=1
URL:https://www.facebook.com/groups/Pottstowncarsandcoffee/?ref=bookma
 rks&qsefr=1
CONTACT:484-919-3424
ORGANIZER;CN="brad ray":https://northeastwheelsevents.com/profile/brad
 ray
ATTACH;FMTTYPE="image/jpeg":
ATTENDEE;ROLE=REQ-PARTICIPANT;PARTSTAT=ACCEPTED;RSVP=TRUE;CN="brad ray
 ":https://northeastwheelsevents.com/profile/bradray
END:VEVENT
END:VCALENDAR
