BEGIN:VCALENDAR
PRODID:NingEventWidget-v1
VERSION:2.0
METHOD:PUBLISH
BEGIN:VEVENT
UID:5167423:Event:75618
DTSTAMP:20260421T023620Z
SUMMARY:Pottstown Cars & Coffee
DESCRIPTION:After great success with our 1st 2 meets of the new season
 , in the all new location, I continue to get more excited over this ev
 ent's popularity. So here we go, this is the INVITE to the next PC&C E
 vent.              Pottstown Cars and Coffee 2015;As we d
 id at the first 2 meets of the year, we will be meeting for the third 
 time in the Stowe Crossing Shopping Center (1630 West High Street, Sto
 we ) on Saturday JUNE 13th, 2015 Here is our schedule and flyer, feel 
 free to print it out and spread the word, post it up, hand out copies,
  and help us grow this event to match and exceed some of the sister ev
 ents which are at this time MUCH larger. These events have become grea
 t places/times for car enthusiasts to get togeth...er and meet, and ea
 t, and have some coffee and shoot the breeze, with NO expectations of 
 JUDGING, or TROPHIES. JUST CAR PEOPLE getting together with other CAR 
 PEOPLE. Car enthusiasts of all kinds are welcome. It does not matter w
 hat you drive, if it’s a LAMBORGHINI, or a GEO METRO, if it has 500 
 hp, or 80h hp, if it was made in THIS Country, or came from Over Seas.
  This is about the passion for cars, and the want to HANG and MEET oth
 ers with the same passion. No need for a BOOK OF RULES, all we ask is 
 that those who wish to participate, respect each other, each others ve
 hicles, the property in which we have been given the opportunity to us
 e, both by the merchants and property owners, as well as all local Law
  Enforcement, and local traffic laws. (For those who cannot abide by t
 hese simple courtesies they will be asked to leave and not return). Fo
 r more information, or if you have questions, please visit our Faceboo
 k page at;https://www.facebook.com/groups/Pottstowncarsandcoffee/ THAN
 K YOU IN ADVANCE, and WE LOOK FORWARD TO ANOTHER GREAT MEET!!!! Please
  share this with your local car enthusiast friends.\n\nFor more inform
 ation visit https://northeastwheelsevents.com/events/pottstown-cars-co
 ffee-2
DTSTART:20150613T130000Z
DTEND:20150613T160000Z
CATEGORIES:morning, cruise-in
LOCATION:Stowe Crossing Shopping Center (1630 West High Street, Stowe 
 )
WEBSITE:https://www.facebook.com/groups/Pottstowncarsandcoffee/
URL:https://www.facebook.com/groups/Pottstowncarsandcoffee/
CONTACT:484-919-3424
ORGANIZER;CN="Pottstown Cars & Coffee":https://northeastwheelsevents.c
 om/profile/Brad
ATTACH;FMTTYPE="image/jpeg":http://storage.ning.com/topology/rest/1.0/
 file/get/2284071884?profile=original
ATTENDEE;ROLE=REQ-PARTICIPANT;PARTSTAT=ACCEPTED;RSVP=TRUE;CN="Pottstow
 n Cars & Coffee":https://northeastwheelsevents.com/profile/Brad
END:VEVENT
END:VCALENDAR
