BEGIN:VCALENDAR
PRODID:NingEventWidget-v1
VERSION:2.0
METHOD:PUBLISH
BEGIN:VEVENT
UID:5167423:Event:310239
DTSTAMP:20260422T065654Z
SUMMARY:Pottstown Classics Car Club
DESCRIPTION:Come on out and check out our new location.  We have a 50
 /50 drawing, trophies, and DJ Sheila spinning the tunes.  \n  *****
 ***** Admittion is $10:00 *****************\n\nFor more information vi
 sit https://northeastwheelsevents.com/events/pottstown-classics-car-cl
 ub-6
DTSTART:20230624T140000Z
DTEND:20230624T180000Z
CATEGORIES:car, show
LOCATION:Norco Fire Co.
WEBSITE:
URL:
CONTACT:
ORGANIZER;CN="Anthony J Ziemba Jr":https://northeastwheelsevents.com/p
 rofile/AnthonyJZiembaJr
ATTACH;FMTTYPE="image/jpeg":https://storage.ning.com/topology/rest/1.0
 /file/get/10943649865?profile=original
ATTENDEE;ROLE=REQ-PARTICIPANT;PARTSTAT=ACCEPTED;RSVP=TRUE;CN="Anthony 
 J Ziemba Jr":https://northeastwheelsevents.com/profile/AnthonyJZiembaJ
 r
END:VEVENT
END:VCALENDAR
