BEGIN:VCALENDAR
PRODID:NingEventWidget-v1
VERSION:2.0
METHOD:PUBLISH
BEGIN:VEVENT
UID:5167423:Event:246274
DTSTAMP:20260421T013302Z
SUMMARY:Pottstown Nights car show
DESCRIPTION:A decades long tradition has been renewed in Downtown Pott
 stown. All cars, trucks and Motorcycles of show quality are invited to
  Downtown Pottstown, Pa on June 1st for a nighttime car show! Food, Mu
 sic and just hanging out with other enthusiasts! No entry fee or regis
 tration. Enter at High and Hanover St at 5pm! Show will be held on the
  first Saturday of the month thru September. Hosted by Red Horse Motor
 ing Club of Pottstown. \n\n\nFor more information visit https://north
 eastwheelsevents.com/events/pottstown-nights-car-show
DTSTART:20190601T210000Z
DTEND:20190602T010000Z
CATEGORIES:downtown, car, show
LOCATION:Pottstown, pa
WEBSITE:
URL:
CONTACT:9044247210
ORGANIZER;CN="Chuck Harders":https://northeastwheelsevents.com/profile
 /ChuckHarders
ATTACH;FMTTYPE="image/jpeg":https://storage.ning.com/topology/rest/1.0
 /file/get/2732746592?profile=original
ATTENDEE;ROLE=REQ-PARTICIPANT;PARTSTAT=ACCEPTED;RSVP=TRUE;CN="Chuck Ha
 rders":https://northeastwheelsevents.com/profile/ChuckHarders
END:VEVENT
END:VCALENDAR
