BEGIN:VCALENDAR
PRODID:NingEventWidget-v1
VERSION:2.0
METHOD:PUBLISH
BEGIN:VEVENT
UID:5167423:Event:260557
DTSTAMP:20260425T203833Z
SUMMARY:Pottsville A&A Auto Dyno Day
DESCRIPTION:3 Pulls for $75.00Mark your CalendarsBe sure to call and r
 egister your vehicle\n\nFor more information visit https://northeastwh
 eelsevents.com/events/pottsville-a-amp-a-auto-dyno-day
DTSTART:20200530T140000Z
DTEND:20200530T200000Z
CATEGORIES:dyno, day
LOCATION:A&amp;A Auto Stores Pottsvile
WEBSITE:https://www.facebook.com/events/658988238171608/
URL:https://www.facebook.com/events/658988238171608/
CONTACT:570-622-2815
ORGANIZER:Eric Ansbach
ATTACH;FMTTYPE="image/jpeg":https://storage.ning.com/topology/rest/1.0
 /file/get/3986191718?profile=original
ATTENDEE;ROLE=REQ-PARTICIPANT;PARTSTAT=ACCEPTED;RSVP=TRUE;CN="John Gru
 ttadauria":https://northeastwheelsevents.com/profile/JohnGruttadauria
END:VEVENT
END:VCALENDAR
