BEGIN:VCALENDAR
PRODID:NingEventWidget-v1
VERSION:2.0
METHOD:PUBLISH
BEGIN:VEVENT
UID:5167423:Event:335854
DTSTAMP:20260419T194250Z
SUMMARY:Powerama Customs 2025 Winter Show
DESCRIPTION:GET READY FOR THE MOST AWESOME AUTOMOTIVE EVENT OF THE YEA
 R: THE POWERAMA CUSTOMS 2025 WINTER SHOW! Join us for a weekend packed
  with cool cars, awards, and prizes! \r\nFri. Feb. 14 2025 to Sun. Feb
 . 16 2025.\r\nFri 5pm-10pm, Sat 9am-10pm, Sun 9am-6pm. \r\nRegistratio
 n is open now! We have something for everyone! • LIVE DEMONSTRATIONS
  • CELEBRITY GUESTS • LIVE MUSIC • CHILDREN'S ACTIVITIES Registe
 r online at https://poweramacustoms.com/ Powerama Customs Car & Bike S
 how 2025. Like and follow us on Facebook for updates, and if you like
  us, please share with your friends!\n\nFor more information visit htt
 ps://northeastwheelsevents.com/events/powerama-customs-2025-winter-sho
 w
DTSTART:20250214T220000Z
DTEND:20250216T230000Z
CATEGORIES:carshow
LOCATION:Greene County Fairgrounds and Expo Center
WEBSITE:https://allevents.in/xenia/powerama-customs-2025-winter-show/2
 00026862450523
URL:https://allevents.in/xenia/powerama-customs-2025-winter-show/20002
 6862450523
CONTACT:(937) 372-8621 ex. 12
ORGANIZER:Powerama Customs
ATTACH;FMTTYPE="image/jpeg":https://storage.ning.com/topology/rest/1.0
 /file/get/13106763453?profile=original
ATTENDEE;ROLE=REQ-PARTICIPANT;PARTSTAT=ACCEPTED;RSVP=TRUE;CN="William 
 Bruce":https://northeastwheelsevents.com/profile/WilliamBruce
END:VEVENT
END:VCALENDAR
