BEGIN:VCALENDAR
PRODID:NingEventWidget-v1
VERSION:2.0
METHOD:PUBLISH
BEGIN:VEVENT
UID:5167423:Event:140014
DTSTAMP:20260423T191300Z
SUMMARY:PPB Motorsports Racecar and Trade Show
DESCRIPTION:The excitement of Richard Petty’s appearance at the Pion
 eer Pole Buildings Motorsports 2017 Race Car and Trade Show Fueled by 
 Sunoco Distributed By Insinger Performance on Jan. 21 from 1-3 p.m. he
 re at the Greater Philadelphia Expo Center will be added to throughout
  the weekend by the display of two of his most-significant NASCAR Cup 
 Series cars.\nEach of these No. 43 Petty Enterprises-built racing mach
 ines – his 1967 Plymouth Belvedere and 1972 Dodge Charger – mark a
  special point in Petty’s long and colorful driving career (1958-199
 2) and they also help to tell important parts of the NASCAR story.\nTh
 e Petty Blue No. 43 1967 Plymouth Belvedere holds a special place in P
 etty Enterprises and NASCAR history as it was the car that Petty used 
 to win 27 then-NASCAR Grand National races, including an amazing and n
 ever-duplicated 10 victories in a row.\n\nFor more information visit h
 ttps://northeastwheelsevents.com/events/ppb-motorsports-racecar-and-tr
 ade-show
DTSTART:20170120T190000Z
DTEND:20170122T210000Z
CATEGORIES:racecar, trade, show
LOCATION:Greater Philadelphia Expo Center, Oaks, PA
WEBSITE:http://aarn.com/2014/02/09/motorsports-exhibitor-information/
URL:http://aarn.com/2014/02/09/motorsports-exhibitor-information/
CONTACT:
ORGANIZER:Area Auto Racing News
ATTACH;FMTTYPE="image/jpeg":http://storage.ning.com/topology/rest/1.0/
 file/get/2284091422?profile=original
ATTENDEE;ROLE=REQ-PARTICIPANT;PARTSTAT=ACCEPTED;RSVP=TRUE;CN="Pamela H
 irschhorn":https://northeastwheelsevents.com/profile/PamelaHirschhorn
END:VEVENT
END:VCALENDAR
