BEGIN:VCALENDAR
PRODID:NingEventWidget-v1
VERSION:2.0
METHOD:PUBLISH
BEGIN:VEVENT
UID:5167423:Event:180997
DTSTAMP:20260420T011301Z
SUMMARY:PPG Syracuse Nationals Classic Car Show
DESCRIPTION:This event is fun for the whole family; running July 20th 
 â€“ 22nd at the Empire Expo Center at the New York State Fairgrounds.Â
   Enjoy the day with craft shows, great food, over 8,000 custom street
  rods & classic cars; hundreds of vendors, prizes, Car Corral and swap
  meet.Â \nÂ \n\nÂ \n\nFor more information visit https://northeastwhee
 lsevents.com/events/ppg-syracuse-nationals-classic-car-show
DTSTART:20180720T120000Z
DTEND:20180722T220000Z
CATEGORIES:classic, car, show
LOCATION:New York State Fair Grounds
WEBSITE:http://www.syracusenationals.com
URL:http://www.syracusenationals.com
CONTACT:3156689703
ORGANIZER;CN="Keith D. Fioramonti":https://northeastwheelsevents.com/p
 rofile/KeithDFioramonti
ATTACH;FMTTYPE="image/jpeg":http://storage.ning.com/topology/rest/1.0/
 file/get/2284107071?profile=original
ATTENDEE;ROLE=REQ-PARTICIPANT;PARTSTAT=ACCEPTED;RSVP=TRUE;CN="Keith D.
  Fioramonti":https://northeastwheelsevents.com/profile/KeithDFioramont
 i
END:VEVENT
END:VCALENDAR
