BEGIN:VCALENDAR
PRODID:NingEventWidget-v1
VERSION:2.0
METHOD:PUBLISH
BEGIN:VEVENT
UID:5167423:Event:23303
DTSTAMP:20260423T222302Z
SUMMARY:Pre-War Austin Sevens stop at AACA Museum In Route from Buenos
  Aires to New York City
DESCRIPTION:  \n \nPhoto courtesy of:  Mr. River Dukes\n \n\nHers
 hey, PA (June 6, 2013). A group of automotive enthusiasts are in the p
 rocess of an epic 11,000+ mile trek from Buenos Aires to New York City
  and will be stopping at the Antique Automobile Club of America (AACA)
  Museum in the \"victory lap\" before their final destination of Times
  Square in New York on June 11th.\n\nThis group of 5 team members expe
 cts to arrive at the AACA Museum on Monday, June 10th sometime between
  the hours of 1-4 PM. The team is driving a series of 3 Austin Seven v
 ehicles - a 1929, a 1932 and 1933 vehicle. While these vehicles are mo
 re commonplace in the United Kingdom where they originated they are ra
 ther rare to see in Central Pennsylvania. The Austin Seven does have a
  local connection, however, as approximately 20,000 American Austins w
 ere made in Butler, PA form 1930 to 1934.\n ABOUT THE AACA MUSEUM \n
 The Antique Automobile Club of America Museum, a member of the Smithso
 nian Institution Affiliations Program, displays beautifully restored a
 utomobiles, buses and motorcycles in unique life-like scenes represent
 ing the 1900's - 1970's in a cross-country journey from New York to Sa
 n Francisco.   The AACA Museum, a 501(c) (3) non-profit organization
 , is celebrating 10 years as one of the nation's largest automotive mu
 seums.  Special exhibits change several times a year and focus on a v
 ariety of eras and types of vehicles.  The AACA Museum is located jus
 t off Route 39, one mile west of Hersheypark Drive in Hershey, Pennsyl
 vania.  Regular admission $10, seniors age 61 and older $9, juniors a
 ge 4-12 $7, children age 3 and under are FREE.  To celebrate our 10th
  Anniversary, Admission will be just $10 for two guests every Tuesday 
 through 2013.  The Museum is open daily from 9:00 AM to 5:00 PM and s
 elect evening hours during the summer months.   For further informat
 ion, please call 717-566-7100 or visit AACAMuseum.org. \n\nFor more i
 nformation visit https://northeastwheelsevents.com/events/pre-war-aust
 in-sevens-stop-at-aaca-museum-in-route-from-buenos-ai
DTSTART:20130610T170000Z
DTEND:20130610T200000Z
CATEGORIES:austin, seven, tour, stop
LOCATION:AACA Museum, Hershey PA
WEBSITE:http://aacamuseum.org
URL:http://aacamuseum.org
CONTACT:717 566-7100
ORGANIZER:AACA Museum
ATTACH;FMTTYPE="image/jpeg":http://storage.ning.com/topology/rest/1.0/
 file/get/2284051320?profile=original
ATTENDEE;ROLE=REQ-PARTICIPANT;PARTSTAT=ACCEPTED;RSVP=TRUE;CN="Pamela H
 irschhorn":https://northeastwheelsevents.com/profile/PamelaHirschhorn
END:VEVENT
END:VCALENDAR
