BEGIN:VCALENDAR
PRODID:NingEventWidget-v1
VERSION:2.0
METHOD:PUBLISH
BEGIN:VEVENT
UID:5167423:Event:96607
DTSTAMP:20260421T044457Z
SUMMARY:15th Annual BBC Pre WWII Car flea market & Brass era car show
DESCRIPTION:In the heart of Amish country, this well attended flea mar
 ket is associated with the15th running of the BBC Tour, a 4 day Brass 
 Car run that begins on Monday, May 23.  There will also be a car show
  of all pre-1916 cars on site.\nSpaces are 10X30 ft \nVendor Spaces $
 10\nPublic entrance FREE\nSetup begins @ 7:00AM\n\nJim Dix: brassinbuc
 ks@aol.com\nMail:     BBC\n           PO Box 100\n   
         Big Flats, NY, 14814-0100\n\nFor more information visit
  https://northeastwheelsevents.com/events/pre-wwii-car-flea-market-bra
 ss-era-car-show
DTSTART:20160522T130000Z
DTEND:20160522T210000Z
CATEGORIES:flea, market
LOCATION:Railroad Museum of Pennsylvania - Strasburg
WEBSITE:https://www.google.com/maps/place/300+Gap+Rd,+Ronks,+PA+17572/
 @39.9821418,-76.1624542,17z/data=!3m1!4b1!4m2!3m1!1s0x89c639ec9daf0baf
 :0x56b38291132dde0a
URL:https://www.google.com/maps/place/300+Gap+Rd,+Ronks,+PA+17572/@39.
 9821418,-76.1624542,17z/data=!3m1!4b1!4m2!3m1!1s0x89c639ec9daf0baf:0x5
 6b38291132dde0a
CONTACT:215-313-2734
ORGANIZER:Susquehanna Valley Region, HCCA
ATTACH;FMTTYPE="image/jpeg":http://storage.ning.com/topology/rest/1.0/
 file/get/2284078613?profile=original
ATTENDEE;ROLE=REQ-PARTICIPANT;PARTSTAT=ACCEPTED;RSVP=TRUE;CN="Steven C
 ook":https://northeastwheelsevents.com/profile/StevenCook
END:VEVENT
END:VCALENDAR
