BEGIN:VCALENDAR
PRODID:NingEventWidget-v1
VERSION:2.0
METHOD:PUBLISH
BEGIN:VEVENT
UID:5167423:Event:325605
DTSTAMP:20260421T124206Z
SUMMARY:Pretzel City Rod and Custom Car Club Father's Day Car Show
DESCRIPTION:Pretzel City Rod & Custom Father's Day Car Show\nJune 16, 
 2024   9am-3pm\nOley Fairgrounds,  477 Main St, Oley, PA\n    (en
 ter on Jefferson St)\nPre-reg $12   Day of show - $15  (rain or shi
 ne)\nFood by Oley Fire Co.  -  breakfast and lunch\nDJ, Chinese Auct
 ion, lots of door prizes, 50/50, games\nNSRA Safety Inspection availab
 le\n \n\nFor more information visit https://northeastwheelsevents.com
 /events/pretzel-city-rod-amp-custom-car-club-father-s-day-car-show-2
DTSTART:20240616T130000Z
DTEND:20240616T190000Z
CATEGORIES:car, show
LOCATION:Oley Fairgrounds
WEBSITE:
URL:
CONTACT:610-678-3948
ORGANIZER;CN="Richard Baum":https://northeastwheelsevents.com/profile/
 RichardBaum
ATTACH;FMTTYPE="image/jpeg":https://storage.ning.com/topology/rest/1.0
 /file/get/12398934290?profile=original
ATTENDEE;ROLE=REQ-PARTICIPANT;PARTSTAT=ACCEPTED;RSVP=TRUE;CN="Richard 
 Baum":https://northeastwheelsevents.com/profile/RichardBaum
END:VEVENT
END:VCALENDAR
