BEGIN:VCALENDAR
PRODID:NingEventWidget-v1
VERSION:2.0
METHOD:PUBLISH
BEGIN:VEVENT
UID:5167423:Event:204443
DTSTAMP:20260425T061819Z
SUMMARY:PSU Berks Racing, Semi Annual Car, Truck and Motorcycle Show
DESCRIPTION:This car show is to raise money for the Penn State Berks B
 aja car club.  Basic Info:  -$10 to enter a vehicle -Free to Spectato
 rs -Door Prizes for any one showing a vehicle  Trophies for “Best i
 n Show, Car” “Best in Show, Truck” “Overall Best in Show\n\nFo
 r more information visit https://northeastwheelsevents.com/events/psu-
 berks-racing-semi-annual-car-truck-and-motorcycle-show
DTSTART:20180922T160000Z
DTEND:20180922T190000Z
CATEGORIES:fundraiser
LOCATION:Penn State Berks
WEBSITE:https://www.facebook.com/events/2065845686986492/?notif_t=even
 t_aggregate&amp;amp;notif_id=1537182466985622
URL:https://www.facebook.com/events/2065845686986492/?notif_t=event_ag
 gregate&amp;amp;notif_id=1537182466985622
CONTACT:2158378231
ORGANIZER;CN="Tyler Williams":https://northeastwheelsevents.com/profil
 e/TylerWilliams
ATTACH;FMTTYPE="image/jpeg":http://storage.ning.com/topology/rest/1.0/
 file/get/780563449?profile=original
ATTENDEE;ROLE=REQ-PARTICIPANT;PARTSTAT=ACCEPTED;RSVP=TRUE;CN="Tyler Wi
 lliams":https://northeastwheelsevents.com/profile/TylerWilliams
END:VEVENT
END:VCALENDAR
