BEGIN:VCALENDAR
PRODID:NingEventWidget-v1
VERSION:2.0
METHOD:PUBLISH
BEGIN:VEVENT
UID:5167423:Event:20705
DTSTAMP:20260421T224343Z
SUMMARY:PVGP 2013 Kick-Off Rallye
DESCRIPTION:Our Kick-Off Rallye is truly the kick-off event of the Pit
 tsburgh Vintage Grand Prix. It’s like a scavenger hunt on wheels. Yo
 ur score is determined by how close you can follow directions and stay
  within posted speed limits and reach the finish line. You also need t
 o answer some trivia questions along the way. No experience is necessa
 ry, just have fun. For details email Paul MacIntyre or phone at 412 67
 3-0998 (home).The Rallye begins on South Craig Street in Oakland, betw
 een 5th Avenue and Forbes Avenue, and ends at the Spaghetti Warehouse
  at the corner of 26th Street & Smallman Street in the Strip District.
  Where it goes in between is anybody’s guess!The entry fee for a tea
 m of two is $75.00Truly unique to our Rallye is that it’s open to th
 e public – the first 90 driver/navigator teams to sign up get to run
  in a timed race through the streets and neighborhoods of Pittsburgh a
 nd its suburbs. Come have fun, get lost or maybe even join the parade!
 Rallyes, popular in Europe, are relatively little-known in American mo
 torsports – that’s where we got the extra “e” on the end! A ra
 llye master sets the course, which is designed to be completed at the 
 posted speed limits. Then, a set of directions is drawn up for the par
 ticipants. These directions can be simple or incredibly difficult clue
 s. The key is to pass through all checkpoints on time – being late o
 r early will penalize the driver a certain number of points. So, even 
 of you speed, you still can lose. In true Grand Prix style, the finish
  line will hold a party and awards ceremony for the participants.\n\nF
 or more information visit https://northeastwheelsevents.com/events/pvg
 p-2013-kick-off-rallye
DTSTART:20130706T040000Z
DTEND:20130707T035900Z
CATEGORIES:rally
LOCATION:Pittsburgh, PA
WEBSITE:http://www.pvgp.org/rallye/
URL:http://www.pvgp.org/rallye/
CONTACT:
ORGANIZER;CN="Pittsburgh Vintage Grand Prix":https://northeastwheelsev
 ents.com/profile/PittsburghVintageGrandPrix
ATTACH;FMTTYPE="image/jpeg":http://storage.ning.com/topology/rest/1.0/
 file/get/2284050462?profile=original
ATTENDEE;ROLE=REQ-PARTICIPANT;PARTSTAT=ACCEPTED;RSVP=TRUE;CN="Pittsbur
 gh Vintage Grand Prix":https://northeastwheelsevents.com/profile/Pitts
 burghVintageGrandPrix
END:VEVENT
END:VCALENDAR
