BEGIN:VCALENDAR
PRODID:NingEventWidget-v1
VERSION:2.0
METHOD:PUBLISH
BEGIN:VEVENT
UID:5167423:Event:20520
DTSTAMP:20260421T080351Z
SUMMARY:PVGP Historic Races at Pitt Race Complex
DESCRIPTION:The Pittsburgh Vintage Grand Prix, presented by Shop ‘n 
 Save has grown into a 10 day motorsport event with two weekends of rac
 ing! The kick-off weekend launches our event.   This bellicose big-bo
 re battalion of 1960’s and 70’s legends will roar through the Pitt
 sburgh International Race Complex (Pitt-Race) in Beaver Falls on the J
 uly 13-14 weekend. The PVGP is excited to welcome PIRC as a Gold Spons
 or of our event.\n\nFor more information visit https://northeastwheels
 events.com/events/pvgp-historic-races-at-pitt-race-complex
DTSTART:20130713T040000Z
DTEND:20130715T035900Z
CATEGORIES:vintage, racing, car, show
LOCATION:Wampum, PA
WEBSITE:http://www.pvgp.org/drivers/pvgp-historic-races/
URL:http://www.pvgp.org/drivers/pvgp-historic-races/
CONTACT:724.535.1000
ORGANIZER;CN="Pittsburgh Vintage Grand Prix":https://northeastwheelsev
 ents.com/profile/PittsburghVintageGrandPrix
ATTACH;FMTTYPE="image/jpeg":http://storage.ning.com/topology/rest/1.0/
 file/get/2284049533?profile=original
ATTENDEE;ROLE=REQ-PARTICIPANT;PARTSTAT=ACCEPTED;RSVP=TRUE;CN="Pittsbur
 gh Vintage Grand Prix":https://northeastwheelsevents.com/profile/Pitts
 burghVintageGrandPrix
END:VEVENT
END:VCALENDAR
