BEGIN:VCALENDAR
PRODID:NingEventWidget-v1
VERSION:2.0
METHOD:PUBLISH
BEGIN:VEVENT
UID:5167423:Event:300403
DTSTAMP:20260419T133752Z
SUMMARY:PVGP Historics at Pittsburgh International Race Complex
DESCRIPTION:Experience the heart-pounding thunder of the Pittsburgh Vi
 ntage Grand Prix Historics at Pittsburgh International Race Complex Po
 wered by Ford! If you are looking for speed, muscle and thunder, this 
 is the place to be.\n\nSince 2004, racers from all over the country ha
 ve come to the 2.8-mile purpose-built track 40 miles northwest of Pitt
 sburgh for fierce and competition between the legends of the 60s and e
 arly 70s, including Porsches, Vipers, Triumphs, Mustangs, Corvettes, J
 aguars, BMWs, and Alfa Romeos, just to name a few.\n\nPorsche is the 2
 022 PVGP Marque of the Year and they will be racing in several groups 
 and the Porsche Club is hosting a PHAT Saturday Car Show. \n\nViper i
 s the 2022 PVGP Spotlight Car and will compete in the Modern Historics
  Group.  Members of the Viper Team, including Roy \"Father Viper\" Sj
 oberg, will be speaking at lunchtime about the Dodge Viper Racing prog
 ram\n\nThe nation’s premier Triumph race, the Kastner Cup takes pl
 ace Saturday afternoon and a Reunion Race on Sunday morning. This will
  be the 20th running of the Kastner Cup, bringing Triumph TR’s, GT6 
 and Spitfires together for a national race.\n\nThe Historic Race Weeke
 nd provides plenty of excitement for the entire family. Visit the cars
  and drivers in the expansive paddock and watch the races from several
  vantage points. \nFood/drink vendors and sponsors are located throug
 hout the facility. Including Helltown Brewing – the Official Beer of
  the PVGP” If you feel the personal need for speed, that can be done
  too. \n\nFor more information visit https://northeastwheelsevents.co
 m/events/pvgp-historics-at-pittsburgh-international-race-complex
DTSTART:20220714T110000Z
DTEND:20220717T210000Z
CATEGORIES:vintage, racing, historic, car, show, porsche, dodge, viper
 , kastner, cup
LOCATION:Pittsburgh International Race Complex
WEBSITE:https://pvgp.org/events/pvgp-historics-at-pitt-race/
URL:https://pvgp.org/events/pvgp-historics-at-pitt-race/
CONTACT:(724) 535-1000
ORGANIZER:Pittsburgh Vintage Grand Prix Association
ATTACH;FMTTYPE="image/jpeg":https://storage.ning.com/topology/rest/1.0
 /file/get/10457497278?profile=original
ATTENDEE;ROLE=REQ-PARTICIPANT;PARTSTAT=ACCEPTED;RSVP=TRUE;CN="Bernard 
 Martin":https://northeastwheelsevents.com/profile/BernardMartin
END:VEVENT
END:VCALENDAR
