BEGIN:VCALENDAR
PRODID:NingEventWidget-v1
VERSION:2.0
METHOD:PUBLISH
BEGIN:VEVENT
UID:5167423:Event:247160
DTSTAMP:20260422T141430Z
SUMMARY:PVGP Homestead Waterfront Car Cruise
DESCRIPTION:The Grand Prix’s Waterfront Car Cruise has grown in popu
 larity every year since it was moved to Homestead in 2001. Each year y
 ou can see more and more unique cars as all vehicles are welcome!  We
  are looking forward to seeing  more than 500 cars on display at our
  annual cruise at the Waterfront in Homestead. The car show takes plac
 e from 4:00 until 9:00 PM in the parking lot along Waterfront Drive n
 ext to Steak & Shake.\n\n\n\nFor more information visit https://northe
 astwheelsevents.com/events/pvgp-homestead-waterfront-car-cruise
DTSTART:20190716T200000Z
DTEND:20190717T010000Z
CATEGORIES:car, cruise
LOCATION:Homestead Waterfront
WEBSITE:https://www.pvgp.org/events/cruise/
URL:https://www.pvgp.org/events/cruise/
CONTACT:4125593500
ORGANIZER:Don Privett
ATTACH;FMTTYPE="image/jpeg":
ATTENDEE;ROLE=REQ-PARTICIPANT;PARTSTAT=ACCEPTED;RSVP=TRUE;CN="Jerry Lo
 ngstreth":https://northeastwheelsevents.com/profile/JerryLongstreth
END:VEVENT
END:VCALENDAR
