BEGIN:VCALENDAR
PRODID:NingEventWidget-v1
VERSION:2.0
METHOD:PUBLISH
BEGIN:VEVENT
UID:5167423:Event:247164
DTSTAMP:20260422T105303Z
SUMMARY:PVGP Tune-Up Party @ Heinz Field
DESCRIPTION:Our Fabulous Tune-Up Party returns to Heinz Field in 2019.
  The stadium will be surrounded by cars of all kinds and the party flo
 ws from the Champions Club out onto the plaza overlooking the point an
 d downtown Pittsburgh. It is the city’s most unique car show and par
 ty.\nCost is $50 per person and includes two complimentary drinks – 
 choose from mixed drinks, beer, wine and soft drinks. Tickets are avai
 lable at the door that night for $55.\n\nFor more information visit ht
 tps://northeastwheelsevents.com/events/pvgp-tune-up-party-heinz-field
DTSTART:20190717T220000Z
DTEND:20190718T010000Z
CATEGORIES:car, show
LOCATION:Heinz Field,
WEBSITE:https://www.pvgp.org/events/tune-up/
URL:https://www.pvgp.org/events/tune-up/
CONTACT:412-559-3500
ORGANIZER:Dan Delbianco
ATTACH;FMTTYPE="image/jpeg":
ATTENDEE;ROLE=REQ-PARTICIPANT;PARTSTAT=ACCEPTED;RSVP=TRUE;CN="Jerry Lo
 ngstreth":https://northeastwheelsevents.com/profile/JerryLongstreth
END:VEVENT
END:VCALENDAR
