BEGIN:VCALENDAR
PRODID:NingEventWidget-v1
VERSION:2.0
METHOD:PUBLISH
BEGIN:VEVENT
UID:5167423:Event:43654
DTSTAMP:20260423T111221Z
SUMMARY:PY/ Pypes Exhaust Open House Car Show
DESCRIPTION:The Pypes Exhaust / Performance years Open House and Car S
 how is a 2 day event. On Friday we have an afternoon cruise-in, Then a
  casual cruise thru the local area and end up at Margaritas for some g
 reat food. Saturday is an all day car show extravaganza. We have a Mus
 cle Car & Truck show, a Mustang show, and an all Pontiac show. Also a 
 free cruise-in section. Come and check it out. This is an event not to
  be missed. Proceeds benefit ALS of Philadelphia.\n\nFor more informat
 ion visit https://northeastwheelsevents.com/events/py-pypes-exhaust-op
 en-house-car-show
DTSTART:20140613T040000Z
DTEND:20140615T035900Z
CATEGORIES:charity, car, show, truck, mustang, pontiac, classic, muscl
 e
LOCATION:Pypes Corporate Office
WEBSITE:http://pypesexhaust.com/openhouse
URL:http://pypesexhaust.com/openhouse
CONTACT:8004213890
ORGANIZER;CN="Ken Faust":https://northeastwheelsevents.com/profile/Ken
 Faust
ATTACH;FMTTYPE="image/jpeg":http://storage.ning.com/topology/rest/1.0/
 file/get/2284058692?profile=original
ATTENDEE;ROLE=REQ-PARTICIPANT;PARTSTAT=ACCEPTED;RSVP=TRUE;CN="Ken Faus
 t":https://northeastwheelsevents.com/profile/KenFaust
END:VEVENT
END:VCALENDAR
