BEGIN:VCALENDAR
PRODID:NingEventWidget-v1
VERSION:2.0
METHOD:PUBLISH
BEGIN:VEVENT
UID:5167423:Event:40515
DTSTAMP:20260423T124755Z
SUMMARY:PY/Pypes Open House & Car Show
DESCRIPTION:The Performance Years and Pypes Exhaust Open House and Car
  Shows is a 2-day event for owners and fans of American made cars and 
 trucks. On Friday of the event, we create a more casual feel with an a
 fternoon cruise-in, casual cruise in the local area and some great foo
 d. Saturday is an all day car show extravaganza. We have an ALL PONTIA
 C car show, \"A Celebration of American Cars & Trucks\" show, a free c
 ruise-in area, featured cars, tons of activities and plenty of food fo
 r everyone.  Each year this event is growing larger and larger. We're 
 expecting over 300 Pontiacs, over 300 other American cars & trucks plu
 s more than 3000 spectators at our 2014 openhouse. Enter your ride or 
 just come out to watch, this is an event not to be missed.\n\nFor more
  information visit https://northeastwheelsevents.com/events/py-pypes-o
 pen-house-car-show
DTSTART:20140613T190000Z
DTEND:20140614T210000Z
CATEGORIES:car, show
LOCATION:Hatfield, PA
WEBSITE:http://performanceyears.com/openhouse.asp
URL:http://performanceyears.com/openhouse.asp
CONTACT:267-638-3500
ORGANIZER:Performance Years & Pypes Exhaust
ATTACH;FMTTYPE="image/jpeg":http://storage.ning.com/topology/rest/1.0/
 file/get/2284061769?profile=original
ATTENDEE;ROLE=REQ-PARTICIPANT;PARTSTAT=ACCEPTED;RSVP=TRUE;CN="Eric Cas
 person":https://northeastwheelsevents.com/profile/EricCasperson
END:VEVENT
END:VCALENDAR
