BEGIN:VCALENDAR
PRODID:NingEventWidget-v1
VERSION:2.0
METHOD:PUBLISH
BEGIN:VEVENT
UID:5167423:Event:150379
DTSTAMP:20260422T214054Z
SUMMARY:Quaker Steak and Lube Car Crusie
DESCRIPTION:https://www.facebook.com/QSLYorkPA/\n\nJune 1, July 6, Aug
 ust 3, September 7. Quaker Steak and Lube annual Car Cruise In. 1411 K
 enneth Rd. York pa. First Thursday of every month June-September, 6:00
  pm-8:30 pm. Cold beer, hot food, giveaways, and people's choice car o
 f the show. All cruisers receive 15% off food purchase!. Contact Ambe
 r Hallaman if more information is needed 7177679464 or visit our faceb
 ook\n\nFor more information visit https://northeastwheelsevents.com/ev
 ents/quaker-steak-and-lube-car-crusie-1
DTSTART:20170706T220000Z
DTEND:20170707T003000Z
CATEGORIES:car, cruise, in
LOCATION:Quaker Steak and Lube
WEBSITE:
URL:
CONTACT:7177679464
ORGANIZER:Amber Hallaman
ATTACH;FMTTYPE="image/jpeg":http://storage.ning.com/topology/rest/1.0/
 file/get/2284099132?profile=original
ATTENDEE;ROLE=REQ-PARTICIPANT;PARTSTAT=ACCEPTED;RSVP=TRUE;CN="Pamela H
 irschhorn":https://northeastwheelsevents.com/profile/PamelaHirschhorn
END:VEVENT
END:VCALENDAR
