BEGIN:VCALENDAR
PRODID:NingEventWidget-v1
VERSION:2.0
METHOD:PUBLISH
BEGIN:VEVENT
UID:5167423:Event:243269
DTSTAMP:20260422T223459Z
SUMMARY:Quakertown Dairy Queen Car Cruise
DESCRIPTION:Come out and Cruise with the Motorvators!\n $1 donation pe
 r vehicle\n All donations go to Children's Hospital of Philadelphia\n\
 nFor more information visit https://northeastwheelsevents.com/events/q
 uakertown-dairy-queen-car-cruise-1
DTSTART:20190609T200000Z
DTEND:20190610T000000Z
CATEGORIES:"car cruise"
LOCATION:\"Quakertown Dairy Queen\"
WEBSITE:https://www.facebook.com/events/2337283439839644/
URL:https://www.facebook.com/events/2337283439839644/
CONTACT:
ORGANIZER;CN="Colleen Williams":https://northeastwheelsevents.com/prof
 ile/ColleenWilliams
ATTACH;FMTTYPE="image/jpeg":https://storage.ning.com/topology/rest/1.0
 /file/get/2131038629?profile=original
ATTENDEE;ROLE=REQ-PARTICIPANT;PARTSTAT=ACCEPTED;RSVP=TRUE;CN="Colleen 
 Williams":https://northeastwheelsevents.com/profile/ColleenWilliams
END:VEVENT
END:VCALENDAR
