BEGIN:VCALENDAR
PRODID:NingEventWidget-v1
VERSION:2.0
METHOD:PUBLISH
BEGIN:VEVENT
UID:5167423:Event:144244
DTSTAMP:20260423T034943Z
SUMMARY:Quakertown Farmers Market annual Spring Car Show
DESCRIPTION:The East Penn Modifiers Club would like to invite ALL \"Ca
 r Folks\" to the annual Q-Mart Spring Car Show & Flea Market Event! Tr
 ophies, raffles, DJ, lots of door prizes, 50/50 & maybe even a DUNK TA
 NK!! Saturday July15th in the front lot of the Quakertown Farmers Mark
 et. Come check out all the great cars & while you're there take a walk
  through the Market indoors & the flea market in the back lot along wi
 th the 2 barns. We're requesting a $15 donation & proceeds benefit \"D
 ollars for Dylan\" & Operation Enduring Warrior. rain date of Sunday J
 uly 16th\n\nFor more information visit https://northeastwheelsevents.c
 om/events/quakertown-farmers-market-annual-spring-car-show
DTSTART:20170715T130000Z
DTEND:20170715T170000Z
CATEGORIES:"benefit/fundraiser"
LOCATION:Quakertown Farmers Market
WEBSITE:
URL:
CONTACT:215-313-7033
ORGANIZER;CN="Jim Hunsberger":https://northeastwheelsevents.com/profil
 e/JimHunsberger
ATTACH;FMTTYPE="image/jpeg":http://storage.ning.com/topology/rest/1.0/
 file/get/2160571207?profile=original
ATTENDEE;ROLE=REQ-PARTICIPANT;PARTSTAT=ACCEPTED;RSVP=TRUE;CN="Jim Huns
 berger":https://northeastwheelsevents.com/profile/JimHunsberger
END:VEVENT
END:VCALENDAR
