BEGIN:VCALENDAR
PRODID:NingEventWidget-v1
VERSION:2.0
METHOD:PUBLISH
BEGIN:VEVENT
UID:5167423:Event:708
DTSTAMP:20260424T035932Z
SUMMARY:Quakertown’s 30th Community Day Car Show   Quakertown, Pa.
DESCRIPTION:(Rain date Monday July 5th)\nEntertainment; DJ Scotty play
 s oldies, Games for the kids, Baseball games, Firemen's water battles,
  3 Bands, Food Stands\n\nRegistration 8AM to 12, awards 3 PM\n\nNO VEH
 ICLES NEWER THAN 1985\n\nBest of Show Stock And Modified Trophies\n\nP
 lus 20 trophies in other categories\n\nFree registration and preferred
  parking for cars 1927 and older\nDash Plaques to First 200 Cars\n\nSh
 ow Car Admission: Preregistration $5 by June 22. $10 Day of Show\n\nSp
 ectators free\n\nFor more information visit https://northeastwheelseve
 nts.com/events/quakertowns-30th-community-day
DTSTART:20100704T120000Z
DTEND:20100704T190000Z
CATEGORIES:car, show
LOCATION:Memorial Park
WEBSITE:http://: http://www.freewebs.com/communitydaycarshow
URL:http://: http://www.freewebs.com/communitydaycarshow
CONTACT:215-536-6310
ORGANIZER:Rodney Van Pelt
ATTACH;FMTTYPE="image/jpeg":http://storage.ning.com/topology/rest/1.0/
 file/get/2146871181?profile=original
ATTENDEE;ROLE=REQ-PARTICIPANT;PARTSTAT=ACCEPTED;RSVP=TRUE;CN="Richard 
 Scott":https://northeastwheelsevents.com/profile/RichardScott
END:VEVENT
END:VCALENDAR
