BEGIN:VCALENDAR
PRODID:NingEventWidget-v1
VERSION:2.0
METHOD:PUBLISH
BEGIN:VEVENT
UID:5167423:Event:102250
DTSTAMP:20260425T164830Z
SUMMARY:Queens for a Cause Car & Bike Show
DESCRIPTION:The 5th Annual Queens for a Cause Car & Bike Show will tak
 e place on Sunday, June 12 at the Clearfield County Fair Grounds. Regi
 stration starts at 10am and awards will be given at 4pm. It is $10 to 
 register and all proceeds benefit Queens for a Cause supporting the Ch
 ildren's Miracle Network and local charities. \n\nFor more informatio
 n visit https://northeastwheelsevents.com/events/queens-for-a-cause-ca
 r-bike-show
DTSTART:20160612T140000Z
DTEND:20160612T200000Z
CATEGORIES:car, show
LOCATION:Clearfield County Fair Grounds
WEBSITE:
URL:
CONTACT:8145057876
ORGANIZER:Melanie Henry
ATTACH;FMTTYPE="image/jpeg":
ATTENDEE;ROLE=REQ-PARTICIPANT;PARTSTAT=ACCEPTED;RSVP=TRUE;CN="Melanie 
 Swartz":https://northeastwheelsevents.com/profile/MelanieSwartz
END:VEVENT
END:VCALENDAR
