BEGIN:VCALENDAR
PRODID:NingEventWidget-v1
VERSION:2.0
METHOD:PUBLISH
BEGIN:VEVENT
UID:5167423:Event:344709
DTSTAMP:20260423T150237Z
SUMMARY:R.M. Sotheby's Hershey Auction
DESCRIPTION:THE OFFICIAL AUCTION OF THE EASTERN DIVISION AACA NATIONAL
  FALL MEET\nRM Sotheby’s returns to Hershey, Pennsylvania, on 8–9 
 October 2025 as the official auction of the AACA National Fall Meet. H
 eld at the Hershey Lodge, this annual sale features an unmatched selec
 tion of veteran, Brass Era, and post-war classics, as well as rare aut
 omobilia.\nJoin us in the heart of American automotive history—and b
 e part of one of the most anticipated early-collectible auctions of th
 e year. \n\n\nFor more information visit https://northeastwheelsevent
 s.com/events/r-m-sotheby-s-hershey-auction
DTSTART:20251007T200000Z
DTEND:20251010T010000Z
CATEGORIES:auction
LOCATION:The Hershey Lodge
WEBSITE:https://rmsothebys.com/auctions/hf25/
URL:https://rmsothebys.com/auctions/hf25/
CONTACT:+1 519 352 4575
ORGANIZER:R.M.Sotheby's
ATTACH;FMTTYPE="image/jpeg":https://storage.ning.com/topology/rest/1.0
 /file/get/13723869272?profile=original
ATTENDEE;ROLE=REQ-PARTICIPANT;PARTSTAT=ACCEPTED;RSVP=TRUE;CN="Car Show
 s Little Helper":https://northeastwheelsevents.com/profile/CarShowsLit
 tleHelper
ATTENDEE;ROLE=REQ-PARTICIPANT;PARTSTAT=TENTATIVE;RSVP=TRUE;CN="William
  Bruce":https://northeastwheelsevents.com/profile/WilliamBruce
END:VEVENT
END:VCALENDAR
