BEGIN:VCALENDAR
PRODID:NingEventWidget-v1
VERSION:2.0
METHOD:PUBLISH
BEGIN:VEVENT
UID:5167423:Event:143462
DTSTAMP:20260423T133431Z
SUMMARY:RACE 1 FULL THROTTLE
DESCRIPTION:\n40 LAP MODIFIED “HONORING THE MESSICK FAMILY”  $400
 0 WIN / $400 START / 602 SPORTSMAN $1000 WIN & $125 START \n\n \n\nP
 LUS MOD LITES, SUPER TRUCKS, DELMARVA CHARGERS (Raindate 4/22 Season O
 pener)(This ran was Originally Scheduled for 4/8 BUT HAS BEEN CHANGED 
 TO 4/2) \n\n\n\n\n\n\n\n\n\nFor more information visit https://northe
 astwheelsevents.com/events/race-1-full-throttle
DTSTART:20170402T140000Z
DTEND:20170402T200000Z
CATEGORIES:race
LOCATION:Delaware Intl Speedway
WEBSITE:http://delawareracing.com/DirtTrack/
URL:http://delawareracing.com/DirtTrack/
CONTACT:302-846-3968
ORGANIZER:
ATTACH;FMTTYPE="image/jpeg":http://storage.ning.com/topology/rest/1.0/
 file/get/2284093975?profile=original
ATTENDEE;ROLE=REQ-PARTICIPANT;PARTSTAT=ACCEPTED;RSVP=TRUE;CN="Christop
 her Gosney":https://northeastwheelsevents.com/profile/ChristopherGosne
 y
END:VEVENT
END:VCALENDAR
