BEGIN:VCALENDAR
PRODID:NingEventWidget-v1
VERSION:2.0
METHOD:PUBLISH
BEGIN:VEVENT
UID:5167423:Event:244181
DTSTAMP:20260420T150734Z
SUMMARY:Race 4 The House
DESCRIPTION:\n\nFor more information visit https://northeastwheelseven
 ts.com/events/race-4-the-house
DTSTART:20190601T120000Z
DTEND:20190601T220000Z
CATEGORIES:charity, drag, race, for, the, philadelphia, ronald, mcdona
 ld, house
LOCATION:Maple Grove Raceway
WEBSITE:http://race4thehouse.
URL:http://race4thehouse.
CONTACT:
ORGANIZER;CN="Denny Parisan":https://northeastwheelsevents.com/profile
 /DennyParisan979
ATTACH;FMTTYPE="image/jpeg":https://storage.ning.com/topology/rest/1.0
 /file/get/2281041451?profile=original
ATTENDEE;ROLE=REQ-PARTICIPANT;PARTSTAT=ACCEPTED;RSVP=TRUE;CN="Denny Pa
 risan":https://northeastwheelsevents.com/profile/DennyParisan979
END:VEVENT
END:VCALENDAR
