BEGIN:VCALENDAR
PRODID:NingEventWidget-v1
VERSION:2.0
METHOD:PUBLISH
BEGIN:VEVENT
UID:5167423:Event:99569
DTSTAMP:20260425T170502Z
SUMMARY:Racing Xtravaganza
DESCRIPTION:Racing Xtravaganza, your Prescription for Racing Xcitement
 , once the dust stops flying for the 2015 season in Central Pennsylvan
 ia. The two day event will include race cars, exhibits, booths and so
  much more , giving race fans an up close look at what is in store for
  the 2016 upcoming season. Visit www.RacingXtravaganza.com for more in
 formation\n\nFor more information visit https://northeastwheelsevents.
 com/events/racing-xtravaganza
DTSTART:20160206T050000Z
DTEND:20160208T045900Z
CATEGORIES:racing, show
LOCATION:York Expo Center
WEBSITE:http://www.racingxtravaganza.com
URL:http://www.racingxtravaganza.com
CONTACT:
ORGANIZER:Racing Xtravaganza
ATTACH;FMTTYPE="image/jpeg":http://storage.ning.com/topology/rest/1.0/
 file/get/2284077070?profile=original
ATTENDEE;ROLE=REQ-PARTICIPANT;PARTSTAT=ACCEPTED;RSVP=TRUE;CN="Nicole M
 ontgomery":https://northeastwheelsevents.com/profile/NicoleMontgomery
END:VEVENT
END:VCALENDAR
