BEGIN:VCALENDAR
PRODID:NingEventWidget-v1
VERSION:2.0
METHOD:PUBLISH
BEGIN:VEVENT
UID:5167423:Event:281186
DTSTAMP:20260422T060336Z
SUMMARY:Rambler Marlin Hits the Showroom Floors
DESCRIPTION:Introduced as the Rambler Marlin with motors from the 232,
  OHV, straight 6 with 3 speed manual to the AMC 327 V8 releasing 270 p
 onies and transmissions from a basic 3 speed, auto and Twin Stick, a 3
  speed with an overdrive engaged with a second shifter. Never a big se
 ller, 10,327 found garages in '65. The 1966 Marlin ( not a  Rambler )
  sold 4,547 and, in the final year, '67, the AMC Marlin was shifted fr
 om the Classic to the Ambassador platform and the 343 replaced the 327
 . Alas, the final year of the fish only amounted to 2,545.  Check out
  this walk about a rough '66 https://northeastwheelsevents.com/video/
 a-walk-about-a-1966-rambler-marlin-at-the-2018-fall-carlisle\n\nFor mo
 re information visit https://northeastwheelsevents.com/events/rambler-
 marlin-hits-the-showroom-floors
DTSTART:20210301T050000Z
DTEND:20210302T045900Z
CATEGORIES:anniversary
LOCATION:National
WEBSITE:https://northeastwheelsevents.com/video/a-walk-about-a-1966-ra
 mbler-marlin-at-the-2018-fall-carlisle
URL:https://northeastwheelsevents.com/video/a-walk-about-a-1966-ramble
 r-marlin-at-the-2018-fall-carlisle
CONTACT:
ORGANIZER:AMC
ATTACH;FMTTYPE="image/jpeg":https://storage.ning.com/topology/rest/1.0
 /file/get/8199571467?profile=original
ATTENDEE;ROLE=REQ-PARTICIPANT;PARTSTAT=ACCEPTED;RSVP=TRUE;CN="Pamela H
 irschhorn":https://northeastwheelsevents.com/profile/PamelaHirschhorn
END:VEVENT
END:VCALENDAR
