BEGIN:VCALENDAR
PRODID:NingEventWidget-v1
VERSION:2.0
METHOD:PUBLISH
BEGIN:VEVENT
UID:5167423:Event:246301
DTSTAMP:20260420T215844Z
SUMMARY:Ramsey High School Auto Shop 9th Annual Car Show Ramsey, NJ
DESCRIPTION:Come out a support the Ramsey High School auto Shop. All t
 ypes of cars are welcome from hot rods to tuners and everything in bet
 ween. DJ and music on hand. Food and drinks available. Trophies as wel
 l\n\nFor more information visit https://northeastwheelsevents.com/even
 ts/ramsey-high-school-auto-shop-9th-annual-car-show
DTSTART:20190601T150000Z
DTEND:20190601T190000Z
CATEGORIES:fundraiser
LOCATION:Ramsey High school
WEBSITE:
URL:
CONTACT:
ORGANIZER;CN="Cliff eckert":https://northeastwheelsevents.com/profile/
 Cliffeckert
ATTACH;FMTTYPE="image/jpeg":https://storage.ning.com/topology/rest/1.0
 /file/get/2665111729?profile=original
ATTENDEE;ROLE=REQ-PARTICIPANT;PARTSTAT=ACCEPTED;RSVP=TRUE;CN="Cliff ec
 kert":https://northeastwheelsevents.com/profile/Cliffeckert
END:VEVENT
END:VCALENDAR
