BEGIN:VCALENDAR
PRODID:NingEventWidget-v1
VERSION:2.0
METHOD:PUBLISH
BEGIN:VEVENT
UID:5167423:Event:38825
DTSTAMP:20260423T025044Z
SUMMARY:Reading Fairgrounds Racing Historical Society-4th Annual car S
 how
DESCRIPTION:Antique, Custom, Race Cars, Street Rods, Motorcycles & Tru
 cks. See web site below for registration info.\n\nFor more information
  visit https://northeastwheelsevents.com/events/reading-fairgrounds-ra
 cing-historical-society-4th-annual-car-show
DTSTART:20140608T130000Z
DTEND:20140608T190000Z
CATEGORIES:fund, raiser
LOCATION:Lyons Community park
WEBSITE:http://www.readingfairgroundsracing.com
URL:http://www.readingfairgroundsracing.com
CONTACT:610-916-2331 Linda Fitzgerald
ORGANIZER:Reading Fairgrounds Racing Historical Society
ATTACH;FMTTYPE="image/jpeg":http://storage.ning.com/topology/rest/1.0/
 file/get/2284062000?profile=original
ATTENDEE;ROLE=REQ-PARTICIPANT;PARTSTAT=ACCEPTED;RSVP=TRUE;CN="Michael 
 T. Shaub Sr":https://northeastwheelsevents.com/profile/MichaelTShaubSr
END:VEVENT
END:VCALENDAR
