BEGIN:VCALENDAR
PRODID:NingEventWidget-v1
VERSION:2.0
METHOD:PUBLISH
BEGIN:VEVENT
UID:5167423:Event:147830
DTSTAMP:20260422T225938Z
SUMMARY:Reading Liederkranz Singers' Sommerfest Car Show
DESCRIPTION:Early bird breakfast ( 9am ) , Biergarten, home made Germa
 n foods. All makes, models and years welcome! Rain or Shine.\n\nFor mo
 re information visit https://northeastwheelsevents.com/events/reading-
 liederkranz-singers-sommerfest-car-show
DTSTART:20170716T140000Z
DTEND:20170716T210000Z
CATEGORIES:car, show
LOCATION:Reading Liederkranz
WEBSITE:
URL:
CONTACT:(610) 373-3982, RLKSingers@gmail.com
ORGANIZER:Reading Liederkranz Singers
ATTACH;FMTTYPE="image/jpeg":
ATTENDEE;ROLE=REQ-PARTICIPANT;PARTSTAT=ACCEPTED;RSVP=TRUE;CN="Pamela H
 irschhorn":https://northeastwheelsevents.com/profile/PamelaHirschhorn
END:VEVENT
END:VCALENDAR
