BEGIN:VCALENDAR
PRODID:NingEventWidget-v1
VERSION:2.0
METHOD:PUBLISH
BEGIN:VEVENT
UID:5167423:Event:300825
DTSTAMP:20260425T232959Z
SUMMARY:READING- Rev up Your Weekend CRUISE IN
DESCRIPTION:Come on out to the Sonic Drive In for great food and hot c
 ars\n\nAll Makes and Models Welcome\n\nGreat Place to bring a Kid.\nNo
  Charge to attend\n\nFor more information visit https://northeastwheel
 sevents.com/events/reading-rev-up-your-weekend-cruise-in-1
DTSTART:20220813T210000Z
DTEND:20220814T000000Z
CATEGORIES:cruise, in
LOCATION:Sonic
WEBSITE:
URL:
CONTACT:7176025931
ORGANIZER:Mike Brown
ATTACH;FMTTYPE="image/jpeg":https://storage.ning.com/topology/rest/1.0
 /file/get/10476418258?profile=original
ATTENDEE;ROLE=REQ-PARTICIPANT;PARTSTAT=ACCEPTED;RSVP=TRUE;CN="Mike bro
 wn":https://northeastwheelsevents.com/profile/MikeBrown
END:VEVENT
END:VCALENDAR
