BEGIN:VCALENDAR
PRODID:NingEventWidget-v1
VERSION:2.0
METHOD:PUBLISH
BEGIN:VEVENT
UID:5167423:Event:61005
DTSTAMP:20260423T071753Z
SUMMARY:Reedsville All Studebaker indoor flea market
DESCRIPTION:Everything there will be for sale. Cars, parts, lit relate
 d to Studebaker Packard and related vehicles. \n107 indoor and 30 out
  door spaces. Flea market is 8-5pm Friday and Saturday but be there ea
 rly. \nopen house party Friday night at Corkin's Automotive at 233 Ea
 st 3rd St, Lewistown PA 17044\nOff of Rt 322, Reedsville Exit. \nRigh
 t off the exit\nR at the next light.\nR at the 3rd light.\nCross the l
 ittle bridge.\nAnd don't go to grannie's, turn right into the park.\n\
 nFor more information visit https://northeastwheelsevents.com/events/r
 eedsville-all-studebaker-indoor-flea-market
DTSTART:20141122T010000Z
DTEND:20141122T220000Z
CATEGORIES:flea, market
LOCATION:Mifflin County Youth Park
WEBSITE:
URL:
CONTACT:(717)513-8251
ORGANIZER:Max Corkins
ATTACH;FMTTYPE="image/jpeg":http://storage.ning.com/topology/rest/1.0/
 file/get/2284066415?profile=original
ATTENDEE;ROLE=REQ-PARTICIPANT;PARTSTAT=ACCEPTED;RSVP=TRUE;CN="Pamela H
 irschhorn":https://northeastwheelsevents.com/profile/PamelaHirschhorn
END:VEVENT
END:VCALENDAR
