BEGIN:VCALENDAR
PRODID:NingEventWidget-v1
VERSION:2.0
METHOD:PUBLISH
BEGIN:VEVENT
UID:5167423:Event:311186
DTSTAMP:20260422T054237Z
SUMMARY:Reisterstown Park All-Vehicle Show
DESCRIPTION:19th Annual All-Vehicle Show hosted by the Free State Regi
 on, VCCA. All makes/models/eras welcome. 10 AM to 3PM; to be judged ar
 rive by noon. Theme: Friendly and Fun. Awards: Top 35, Best of Decade,
  Best 6 Modified/Custom, Best Motorcycle, Best Truck, Longest Distance
  Driven, and Reisterstown Park Choice. A portion of proceeds to benefi
 t the Custom and Classic Car Educational Foundation. Preregistration $
 15 by July 17; $15 day of show. Food available at Concession Stand. Ra
 in or Shine event.5\n\n\nFor more information visit https://northeastw
 heelsevents.com/events/reisterstown-park-all-vehicle-show-1
DTSTART:20230730T140000Z
DTEND:20230730T190000Z
CATEGORIES:car, show
LOCATION:Reisterstown Regional Park
WEBSITE:http://www.freestateregionvcca.org
URL:http://www.freestateregionvcca.org
CONTACT:14434657492
ORGANIZER:Mike Natale
ATTACH;FMTTYPE="image/jpeg":https://storage.ning.com/topology/rest/1.0
 /file/get/10972538660?profile=original
ATTENDEE;ROLE=REQ-PARTICIPANT;PARTSTAT=ACCEPTED;RSVP=TRUE;CN="Michael 
 R Natale":https://northeastwheelsevents.com/profile/MichaelNatalr
END:VEVENT
END:VCALENDAR
