BEGIN:VCALENDAR
PRODID:NingEventWidget-v1
VERSION:2.0
METHOD:PUBLISH
BEGIN:VEVENT
UID:5167423:Event:139805
DTSTAMP:20260423T191139Z
SUMMARY:RESCHEDULED - BMR 2016-2017 RallyCross Event # 2  Kempton Fair
 grounds
DESCRIPTION:RESCHEDULED! Due to concerns over damage to the lot and th
 e costs associated to repair it we have canceled the event that was sc
 heduled for the Mountain Springs Arena on Sunday January 8th.\nIn it's
  place we have been able to make arrangements to run on SATURDAY Janua
 ry 7th at the Kempton Fairgrounds. Anyone with a valid driver's licens
 e can run. You must be an SCCA member but if you are not an SCCA membe
 r you can buy a Weekend Membership for $10.\n\nFor more information vi
 sit https://northeastwheelsevents.com/events/rescheduled-bmr-2016-2017
 -rallycross-event-2-kempton-fairgrounds
DTSTART:20170107T123000Z
DTEND:20170107T210000Z
CATEGORIES:rally, cross
LOCATION:Kempton Fairgrounds
WEBSITE:http://www.bmr-scca.org/Rally/tabid/614/Default.html
URL:http://www.bmr-scca.org/Rally/tabid/614/Default.html
CONTACT:George Ackerman gackerman6@gmail.com
ORGANIZER:BMR SCCA
ATTACH;FMTTYPE="image/jpeg":http://storage.ning.com/topology/rest/1.0/
 file/get/2284092505?profile=original
ATTENDEE;ROLE=REQ-PARTICIPANT;PARTSTAT=ACCEPTED;RSVP=TRUE;CN="Pamela H
 irschhorn":https://northeastwheelsevents.com/profile/PamelaHirschhorn
END:VEVENT
END:VCALENDAR
