BEGIN:VCALENDAR
PRODID:NingEventWidget-v1
VERSION:2.0
METHOD:PUBLISH
BEGIN:VEVENT
UID:5167423:Event:321720
DTSTAMP:20260422T100557Z
SUMMARY:Rescheduled CCDV Cavalcade of Corvettes
DESCRIPTION:Please join us for the rescheduled Corvette Club of Delawa
 re Valley's 51st Annual Cavalcade of Corvettes being held Saturday, Oc
 tober 28, 2023. (No Rain Date) from 10am till 3pm. Trophies will be aw
 arded for Top 50, 8 Best in Class, Best of Show, Sunshine Foundation, 
 Military/Veteran's Choice. \nPlease join your friends for an All-Corv
 ette Show with breakfast & lunch items, music, trophies, charity aucti
 on and 50/50 drawing.  \nThank you.\n\nFor more information visit ht
 tps://northeastwheelsevents.com/events/rescheduled-ccdv-cavalcade-of-c
 orvettes
DTSTART:20231028T140000Z
DTEND:20231028T190000Z
CATEGORIES:car, show
LOCATION:Middle Bucks Institute of Technolocy
WEBSITE:http://ccdv.com
URL:http://ccdv.com
CONTACT:4844361111
ORGANIZER;CN="Barbara Pergine":https://northeastwheelsevents.com/profi
 le/BarbaraPergine
ATTACH;FMTTYPE="image/jpeg":
ATTENDEE;ROLE=REQ-PARTICIPANT;PARTSTAT=ACCEPTED;RSVP=TRUE;CN="Barbara 
 Pergine":https://northeastwheelsevents.com/profile/BarbaraPergine
END:VEVENT
END:VCALENDAR
