BEGIN:VCALENDAR
PRODID:NingEventWidget-v1
VERSION:2.0
METHOD:PUBLISH
BEGIN:VEVENT
UID:5167423:Event:335105
DTSTAMP:20260423T003454Z
SUMMARY:Ridley Park Fall Festival & Car Show.
DESCRIPTION:Vendors, food, cars and more!Ridley Park town area. Sun. O
 ct. 13 2024 at 12:00 pm to 05:00 pm.\r\nSouth 47 at Main Streets of Ri
 dley Park Fall Festival & Car Show. IMPORTANT NOTE: This event page is
  hosted by South 47. If you wish to be a vendor, please contact Main S
 treets of Ridley Park. DO NOT reply to individuals claiming to have ve
 ndor spots, they are a scam.We are excited to be back on the stage at 
 Main Streets of Ridley Park's Annual Fall Festival and Car Show!Plenty
  to do for the whole family! Live Music, Great Food, Crafts, Kids Acti
 vities and Beautiful Cars!Bands:12:00pm - Juliano Brothers1:30pm - Sou
 th 473:15pm - Chico's Vibe\n\nFor more information visit https://north
 eastwheelsevents.com/events/ridley-park-fall-festival-car-show
DTSTART:20241013T160000Z
DTEND:20241013T210000Z
CATEGORIES:carshow, festival
LOCATION:Ridley Park town area.
WEBSITE:https://allevents.in/ridley%20park/ridley-park-fall-festival-a
 nd-car-show/200027230961830
URL:https://allevents.in/ridley%20park/ridley-park-fall-festival-and-c
 ar-show/200027230961830
CONTACT:
ORGANIZER:South 47
ATTACH;FMTTYPE="image/jpeg":https://storage.ning.com/topology/rest/1.0
 /file/get/13001782279?profile=original
ATTENDEE;ROLE=REQ-PARTICIPANT;PARTSTAT=ACCEPTED;RSVP=TRUE;CN="William 
 Bruce":https://northeastwheelsevents.com/profile/WilliamBruce
END:VEVENT
END:VCALENDAR
