BEGIN:VCALENDAR
PRODID:NingEventWidget-v1
VERSION:2.0
METHOD:PUBLISH
BEGIN:VEVENT
UID:5167423:Event:172404
DTSTAMP:20260424T051500Z
SUMMARY:ROAD TRIP TO INDOOR RACES FEB. 10
DESCRIPTION:The International Motor Racing Research Center is planning
  some mid-winter fun with a road trip to the Area Auto Racing News Ind
 oor Auto Racing Championship Series competition in Albany on Saturday,
  Feb. 10.\n\nReservations deadline to join the trip is Jan. 12.\n \nI
 ndoor Auto Racing features TQ Midget and Slingshot racers.\n \nTQ M
 idgets are purpose built open wheel cars powered by 636 or 750cc motor
 cycle engines modified for indoor racing. They develop top speeds in e
 xcess of 75 mph. TQs weigh approximately 825 pounds.\n \nSlingshots a
 re mini-Modifieds, and, in theory, are all identical. Each comes from 
 one central source, Speedway Entertainment, and each uses a 600 V Twin
  Briggs & Stratton engine. Very few variants to the “spec” car a
 re permitted, according to Area Auto Racing News.\n \nThe road trip w
 ill offer round-trip, motorcoach transportation, with pick-up points i
 n Horseheads and Binghamton, and reserved seating at Albany’s Times 
 Union Center. Doors open at 5 p.m., with racing heats starting at 7 p.
 m.\n \nPrices are $95 for current IMRRC members and $120 for non-memb
 ers.\n \nReservations may be made by calling the IMRRC at (607) 535-9
 044 or emailing IMRRC Coordinator of Visitor Services and Outreach Kip
  Zeiter at kip@racingarchives.org.\n \nSeating is limited, and the de
 adline for reservations is Jan. 12.\n \nFor more information about th
 e work of the Racing Research Center, visit the website www.racingarch
 ives.org. The IMRRC also is on Facebook and Twitter.\n \n\nFor more i
 nformation visit https://northeastwheelsevents.com/events/road-trip-to
 -indoor-races-in-albany-in-feb
DTSTART:20180210T050000Z
DTEND:20180211T045900Z
CATEGORIES:bus, trip
LOCATION:Times Union Center, Albany
WEBSITE:
URL:
CONTACT:607-535-9044
ORGANIZER;CN="Int. Motor Racing Research Cente":https://northeastwheel
 sevents.com/profile/IntMotorRacingResearchCente
ATTACH;FMTTYPE="image/jpeg":http://storage.ning.com/topology/rest/1.0/
 file/get/2284100704?profile=original
ATTENDEE;ROLE=REQ-PARTICIPANT;PARTSTAT=ACCEPTED;RSVP=TRUE;CN="Int. Mot
 or Racing Research Cente":https://northeastwheelsevents.com/profile/In
 tMotorRacingResearchCente
END:VEVENT
END:VCALENDAR
