BEGIN:VCALENDAR
PRODID:NingEventWidget-v1
VERSION:2.0
METHOD:PUBLISH
BEGIN:VEVENT
UID:5167423:Event:340457
DTSTAMP:20260421T045224Z
SUMMARY:Rock and Roll Weekend 2025
DESCRIPTION:\r\n\r\n\r\nThis is Ellicottville locals’ favorite event
 . Over 15 regional bands will perform throughout our legendary bars an
 d restaurants, all free of charge. Saturday, 13th, there will be a liv
 e outdoor performance. Check website for list and locations. \r\nOn S
 unday,14th, the annual car and truck show, featuring over 250 vehicles
 , will take place on the Village Streets from noon until 5:00pm.Regist
 ration oprns at 8:00am.\r\nRock N’ Roll weekend has been an annual e
 vent in our community for over 20 years. It’s a perfect fall weekend
  for the whole family to enjoy! We have a 4-block radius full of wonde
 rful dining experiences, boutiques, shops, and best of all, there’s 
 entertainment on every corner.\r\n\r\n\r\n\r\nRegistration is Open! $2
 0 per vehicle. Click on website! \r\nPhone: (800) 349-9099 / 716-699-
 5046 Fax: (716) 699-5636 Email: info@ellicottvilleny.com\n\nFor more 
 information visit https://northeastwheelsevents.com/events/rock-and-ro
 ll-weekend-2025
DTSTART:20250912T120000Z
DTEND:20250915T000000Z
CATEGORIES:carshow, music
LOCATION:Ellicottville locations
WEBSITE:https://www.ellicottvilleny.com/events/rock-n-roll-weekend-202
 5/
URL:https://www.ellicottvilleny.com/events/rock-n-roll-weekend-2025/
CONTACT:800-349-9099
ORGANIZER:Ellicottville Chamber of Commerce
ATTACH;FMTTYPE="image/jpeg":https://storage.ning.com/topology/rest/1.0
 /file/get/13584007882?profile=original
ATTENDEE;ROLE=REQ-PARTICIPANT;PARTSTAT=ACCEPTED;RSVP=TRUE;CN="William 
 Bruce":https://northeastwheelsevents.com/profile/WilliamBruce
END:VEVENT
END:VCALENDAR
