BEGIN:VCALENDAR
PRODID:NingEventWidget-v1
VERSION:2.0
METHOD:PUBLISH
BEGIN:VEVENT
UID:5167423:Event:243464
DTSTAMP:20260422T194040Z
SUMMARY:Rockin' the Ridge
DESCRIPTION:The Roxborough Ridge Runners 17th annual show is set for S
 aturday, May 11, 2019. Show site is Gorgas Park, 6400 Ridge Avenue, Ph
 iladelphia, PA 19128. Show time is 11:00 AM-3:00 PM. Visit Roxborough 
 Ridge Runners.com or find us on Facebook for more details.\n\nFor more
  information visit https://northeastwheelsevents.com/events/rockin-the
 -ridge
DTSTART:20190511T150000Z
DTEND:20190511T190000Z
CATEGORIES:car, show, fundraiser
LOCATION:Gorgas Park
WEBSITE:http://www.gorgaspark.com
URL:http://www.gorgaspark.com
CONTACT:2154078764
ORGANIZER;CN="Don Shields":https://northeastwheelsevents.com/profile/D
 onShields
ATTACH;FMTTYPE="image/jpeg":https://storage.ning.com/topology/rest/1.0
 /file/get/2097319460?profile=original
ATTENDEE;ROLE=REQ-PARTICIPANT;PARTSTAT=ACCEPTED;RSVP=TRUE;CN="Don Shie
 lds":https://northeastwheelsevents.com/profile/DonShields
END:VEVENT
END:VCALENDAR
