BEGIN:VCALENDAR
PRODID:NingEventWidget-v1
VERSION:2.0
METHOD:PUBLISH
BEGIN:VEVENT
UID:5167423:Event:182953
DTSTAMP:20260422T074922Z
SUMMARY:Rocknrods car show
DESCRIPTION:car show ...music...food....50/50...raffle....TROPHIES \n
 A fun filled day\n\nFor more information visit https://northeastwheels
 events.com/events/rocknrods-car-show
DTSTART:20180610T040000Z
DTEND:20180611T035900Z
CATEGORIES:car, show
LOCATION:Lyndhurst property
WEBSITE:http://Www.rocknrodsny.com
URL:http://Www.rocknrodsny.com
CONTACT:914 -573-1080
ORGANIZER:Rocknrods car club
ATTACH;FMTTYPE="image/jpeg":http://storage.ning.com/topology/rest/1.0/
 file/get/2284114448?profile=original
ATTENDEE;ROLE=REQ-PARTICIPANT;PARTSTAT=ACCEPTED;RSVP=TRUE;CN="James gu
 ccione":https://northeastwheelsevents.com/profile/Jamesguccione
END:VEVENT
END:VCALENDAR
