BEGIN:VCALENDAR
PRODID:NingEventWidget-v1
VERSION:2.0
METHOD:PUBLISH
BEGIN:VEVENT
UID:5167423:Event:331723
DTSTAMP:20260422T193435Z
SUMMARY:Royal Mountain Motocross 2024
DESCRIPTION:Royal Mountain Motocross 2024, Caroga Lake New York, prese
 nts it's September CNYMRA Event! Sunday, September 29, 2024.\r\nMotocr
 oss racing at Royal Mountain started in 1984. We are a member of the C
 entral New York Motocross Racing Association and AMA District 3. Our t
 rack is just under 1 mile long, it has numerous  doubles, triples and
  tabletops for the novice and expert riders. Royal was voted \"track o
 f the year\" 9 times by riders in Central New York motocross. The trac
 k for 2024 season has been rebuilt with a new layout and many new feat
 ures. If you have raced in the past at Royal you should check out the 
 changes. Hundreds of yards of new material, tons of new earthwork equi
 pment and track preperation and soil conditioning. The soil is hand ra
 ked after every motocross and supercross race and we have a pile of sc
 reened top soil to add to the track when needed to guarantee a level r
 acing surface. \r\nSign up for the races is 7-9am. Practice is starti
 ng at 8:30am. 2024 Sign up fees: All classes, $35 per class; Experts, 
 $35 per class; 50cc classes, $25 per class. \r\n\r\nCamping is always
  available the night before an event. Gate opens at noon the day befor
 e races.\r\n\r\n 2024 Supercross, Wednesday Nights under the lights. 
 Every Wednesday through Aug. 28. Signup at 5-7pm, Practice: 6:30pm sha
 rp. Racing right after. Admission: $10, Signup: $25 per class, $25 for
  expert: 50cc and Stacyc: $20 per class. Rules at website. Friday Supe
 rcross under the lights replaces July 10, with Friday August 9. \r\nI
 nfo@royalmountainskiarea.com for more info. \n\nFor more information 
 visit https://northeastwheelsevents.com/events/royal-mountain-motocros
 s-2024
DTSTART:20240929T110000Z
DTEND:20240929T170000Z
CATEGORIES:motocross, supercross
LOCATION:Royal Mountain Ski Area
WEBSITE:https://www.royalmountain.com/motocross#
URL:https://www.royalmountain.com/motocross#
CONTACT:518- 835-6445
ORGANIZER:RMSA
ATTACH;FMTTYPE="image/jpeg":https://storage.ning.com/topology/rest/1.0
 /file/get/12672571686?profile=original
ATTENDEE;ROLE=REQ-PARTICIPANT;PARTSTAT=ACCEPTED;RSVP=TRUE;CN="William 
 Bruce":https://northeastwheelsevents.com/profile/WilliamBruce
END:VEVENT
END:VCALENDAR
