BEGIN:VCALENDAR
PRODID:NingEventWidget-v1
VERSION:2.0
METHOD:PUBLISH
BEGIN:VEVENT
UID:5167423:Event:334954
DTSTAMP:20260423T201651Z
SUMMARY:Rumbelâ€™s Roadside Stand & Cider House 1st Annual Fall Festiv
 al!
DESCRIPTION:Come out and join us for our first annual fall festival!â€
 ˘Pick your own pumpkinsâ€˘Randallâ€™s Chicken BBQ 10am-3pmTickets for 
 the meal are $13 and are available now for purchase.â€˘Classic Car Sho
 w - begins at 11:00am: Registration is $10. Awards will take place at 
 2:00pm.â€˘Live Musicâ€˘Face paintingâ€˘Freshly pressed Apple CiderAny 
 questions reach out to us on our facebook page or give is a call at (5
 70)889-3926\n\nFor more information visit https://northeastwheelsevent
 s.com/events/rumbel-s-roadside-stand-cider-house-1st-annual-fall-festi
 val
DTSTART:20241012T130000Z
DTEND:20241012T210000Z
CATEGORIES:carshow, festival
LOCATION:Rumbel's Roadside Stand
WEBSITE:https://allevents.in/ringtown/rumbel%E2%80%99s-roadside-stand-
 and-cider-house-1st-annual-fall-festival/200027059717045
URL:https://allevents.in/ringtown/rumbel%E2%80%99s-roadside-stand-and-
 cider-house-1st-annual-fall-festival/200027059717045
CONTACT:570-889-3826
ORGANIZER:Rumbel's Roadside Stand
ATTACH;FMTTYPE="image/jpeg":https://storage.ning.com/topology/rest/1.0
 /file/get/13001838655?profile=original
ATTENDEE;ROLE=REQ-PARTICIPANT;PARTSTAT=ACCEPTED;RSVP=TRUE;CN="William 
 Bruce":https://northeastwheelsevents.com/profile/WilliamBruce
END:VEVENT
END:VCALENDAR
