BEGIN:VCALENDAR
PRODID:NingEventWidget-v1
VERSION:2.0
METHOD:PUBLISH
BEGIN:VEVENT
UID:5167423:Event:63738
DTSTAMP:20260422T145838Z
SUMMARY:\"RUN FOR THE BLUE\"
DESCRIPTION:A PROCESSION OF RESPECT ~ AND FUND RAISER FOR THE FALLEN O
 FFICERS OF THE NYPD AN \"ANY AND ALL\" VEHICLE EVENT -SEE OUR POST FOR
  DETAILS. $25. PER VEHICLE ~ 100% OF PROCEEDS GO TO THE FAMILIES OF OF
 FICERS RAFAEL RAMOS AND WENJIAN LIU ~ COME SHOW YOUR SUPPORT AND RIDE 
 WITH THE BEST\n\nFor more information visit https://northeastwheelseve
 nts.com/events/run-for-the-blue
DTSTART:20150111T131500Z
DTEND:20150111T170000Z
CATEGORIES:charity, fundraiser
LOCATION:Exotic Classics
WEBSITE:https://www.facebook.com/events/801060216627411/
URL:https://www.facebook.com/events/801060216627411/
CONTACT:
ORGANIZER:LI EXOTICS CLUB
ATTACH;FMTTYPE="image/jpeg":http://storage.ning.com/topology/rest/1.0/
 file/get/2284066971?profile=original
ATTENDEE;ROLE=REQ-PARTICIPANT;PARTSTAT=ACCEPTED;RSVP=TRUE;CN="Bobby Sa
 nds":https://northeastwheelsevents.com/profile/BobbySands
END:VEVENT
END:VCALENDAR
